{"text_format":"2","workbook":"xlsx","n_sheets":2,"sheets":["Sheet1","Sheet2"],"not_rendered":{"charts":0,"images":0,"macros":0,"external_links":1,"defined_names":0,"comments":0,"pivot_tables":0},"unopened":[],"bounds":{"document_bytes":16777216,"sheet_cells":100000,"run_cost":"one","rows_first":2000,"rows_last":500,"rows_between":2000,"halvings":0,"cell_chars":16384,"cell_head_chars":4096},"cells_cut":0,"cells_raw":0,"read":"whole","date_system":"1900"}

{"sheet":"Sheet1","index":0,"n_rows":56,"n_cols":11,"rows_kept":56,"cut":false,"hidden":false,"merged":[]}
[{"$f":"'[1]Player Values 2023'!B2","v":"Scheffler"},{"$f":"'[1]Player Values 2023'!E2","v":3090.3197600000003},null,{"$f":"'[1]Player Values 2023'!B58","v":"Kuchar"},{"$f":"'[1]Player Values 2023'!E58","v":451.28592080000004},null,{"$f":"'[1]Player Values 2023'!B114","v":"Lashley"},{"$f":"'[1]Player Values 2023'!E114","v":214.91686920000001},null,{"$f":"'[1]Player Values 2023'!B170","v":"McGirt"},{"$f":"'[1]Player Values 2023'!E170","v":170}]
[{"$f":"'[1]Player Values 2023'!B3","v":"Zalatoris"},{"$f":"'[1]Player Values 2023'!E3","v":2069.1176725999999},null,{"$f":"'[1]Player Values 2023'!B59","v":"Woodland"},{"$f":"'[1]Player Values 2023'!E59","v":438.40104000000002},null,{"$f":"'[1]Player Values 2023'!B115","v":"Schwab"},{"$f":"'[1]Player Values 2023'!E115","v":210.28471860000002},null,{"$f":"'[1]Player Values 2023'!B171","v":"Moore, R"},{"$f":"'[1]Player Values 2023'!E171","v":170}]
[{"$f":"'[1]Player Values 2023'!B4","v":"Cantlay"},{"$f":"'[1]Player Values 2023'!E4","v":2061.3130274},null,{"$f":"'[1]Player Values 2023'!B60","v":"Davis"},{"$f":"'[1]Player Values 2023'!E60","v":437.58272799999997},null,{"$f":"'[1]Player Values 2023'!B116","v":"Champ"},{"$f":"'[1]Player Values 2023'!E116","v":206.90076000000002},null,{"$f":"'[1]Player Values 2023'!B172","v":"Norlander"},{"$f":"'[1]Player Values 2023'!E172","v":170}]
[{"$f":"'[1]Player Values 2023'!B5","v":"McIlroy"},{"$f":"'[1]Player Values 2023'!E5","v":1904.0044474000001},null,{"$f":"'[1]Player Values 2023'!B61","v":"Noren"},{"$f":"'[1]Player Values 2023'!E61","v":433.73694540000002},null,{"$f":"'[1]Player Values 2023'!B117","v":"Van Rooyen"},{"$f":"'[1]Player Values 2023'!E117","v":204.05529759999999},null,{"$f":"'[1]Player Values 2023'!B173","v":"Norman"},{"$f":"'[1]Player Values 2023'!E173","v":170}]
[{"$f":"'[1]Player Values 2023'!B6","v":"Schauffele"},{"$f":"'[1]Player Values 2023'!E6","v":1634.0057096},null,{"$f":"'[1]Player Values 2023'!B62","v":"Glover"},{"$f":"'[1]Player Values 2023'!E62","v":427.19535099999996},null,{"$f":"'[1]Player Values 2023'!B118","v":"Tway"},{"$f":"'[1]Player Values 2023'!E118","v":203.98004880000002},null,{"$f":"'[1]Player Values 2023'!B174","v":"Percy"},{"$f":"'[1]Player Values 2023'!E174","v":170}]
[{"$f":"'[1]Player Values 2023'!B7","v":"Burns"},{"$f":"'[1]Player Values 2023'!E7","v":1556.2772500000001},null,{"$f":"'[1]Player Values 2023'!B63","v":"Putnam, A"},{"$f":"'[1]Player Values 2023'!E63","v":422.43133900000004},null,{"$f":"'[1]Player Values 2023'!B119","v":"Wallace"},{"$f":"'[1]Player Values 2023'!E119","v":202.0371562},null,{"$f":"'[1]Player Values 2023'!B175","v":"Roy"},{"$f":"'[1]Player Values 2023'!E175","v":170}]
[{"$f":"'[1]Player Values 2023'!B8","v":"Fitzpatrick"},{"$f":"'[1]Player Values 2023'!E8","v":1542.7876200000001},null,{"$f":"'[1]Player Values 2023'!B64","v":"Reavie"},{"$f":"'[1]Player Values 2023'!E64","v":419.90741540000005},null,{"$f":"'[1]Player Values 2023'!B120","v":"Willet"},{"$f":"'[1]Player Values 2023'!E120","v":201.14452820000002},null,{"$f":"'[1]Player Values 2023'!B176","v":"Schmid"},{"$f":"'[1]Player Values 2023'!E176","v":170}]
[{"$f":"'[1]Player Values 2023'!B9","v":"Thomas"},{"$f":"'[1]Player Values 2023'!E9","v":1502.5065044000003},null,{"$f":"'[1]Player Values 2023'!B65","v":"Merritt"},{"$f":"'[1]Player Values 2023'!E65","v":419.38687120000003},null,{"$f":"'[1]Player Values 2023'!B121","v":"Montgomery"},{"$f":"'[1]Player Values 2023'!E121","v":200},null,{"$f":"'[1]Player Values 2023'!B177","v":"Shelton"},{"$f":"'[1]Player Values 2023'!E177","v":170}]
[{"$f":"'[1]Player Values 2023'!B10","v":"Young, Cam"},{"$f":"'[1]Player Values 2023'!E10","v":1434.4765006000002},null,{"$f":"'[1]Player Values 2023'!B66","v":"Berger"},{"$f":"'[1]Player Values 2023'!E66","v":389.29865480000001},null,{"$f":"'[1]Player Values 2023'!B122","v":"Duncan"},{"$f":"'[1]Player Values 2023'!E122","v":195.99362640000001},null,{"$f":"'[1]Player Values 2023'!B178","v":"Smotherman"},{"$f":"'[1]Player Values 2023'!E178","v":170}]
[{"$f":"'[1]Player Values 2023'!B11","v":"Finau"},{"$f":"'[1]Player Values 2023'!E11","v":1345.9347528000001},null,{"$f":"'[1]Player Values 2023'!B67","v":"Moore, T"},{"$f":"'[1]Player Values 2023'!E67","v":385.27196180000004},null,{"$f":"'[1]Player Values 2023'!B123","v":"Sigg"},{"$f":"'[1]Player Values 2023'!E123","v":194.49878580000001},null,{"$f":"'[1]Player Values 2023'!B179","v":"Snedeker"},{"$f":"'[1]Player Values 2023'!E179","v":170}]
[{"$f":"'[1]Player Values 2023'!B12","v":"Matsuyama"},{"$f":"'[1]Player Values 2023'!E12","v":1270.78556},null,{"$f":"'[1]Player Values 2023'!B68","v":"Griffin, L"},{"$f":"'[1]Player Values 2023'!E68","v":377.86454859999998},null,{"$f":"'[1]Player Values 2023'!B124","v":"Hickok"},{"$f":"'[1]Player Values 2023'!E124","v":193.8705252},null,{"$f":"'[1]Player Values 2023'!B180","v":"Stevens"},{"$f":"'[1]Player Values 2023'!E180","v":170}]
[{"$f":"'[1]Player Values 2023'!B13","v":"Im"},{"$f":"'[1]Player Values 2023'!E13","v":1224.9545264000001},null,{"$f":"'[1]Player Values 2023'!B69","v":"Hossler"},{"$f":"'[1]Player Values 2023'!E69","v":377.614688},null,{"$f":"'[1]Player Values 2023'!B125","v":"Redman"},{"$f":"'[1]Player Values 2023'!E125","v":186.95801520000001},null,{"$f":"'[1]Player Values 2023'!B181","v":"Stroud"},{"$f":"'[1]Player Values 2023'!E181","v":170}]
[{"$f":"'[1]Player Values 2023'!B14","v":"Homa"},{"$f":"'[1]Player Values 2023'!E14","v":1163.7653147999999},null,{"$f":"'[1]Player Values 2023'!B70","v":"Dahmen"},{"$f":"'[1]Player Values 2023'!E70","v":376.8473874},null,{"$f":"'[1]Player Values 2023'!B126","v":"Higgs"},{"$f":"'[1]Player Values 2023'!E126","v":183.55347119999999},null,{"$f":"'[1]Player Values 2023'!B182","v":"Stuard"},{"$f":"'[1]Player Values 2023'!E182","v":170}]
[{"$f":"'[1]Player Values 2023'!B15","v":"Rahm"},{"$f":"'[1]Player Values 2023'!E15","v":1154.6084000000001},null,{"$f":"'[1]Player Values 2023'!B71","v":"Knox"},{"$f":"'[1]Player Values 2023'!E71","v":370.35309520000004},null,{"$f":"'[1]Player Values 2023'!B127","v":"Taylor, N"},{"$f":"'[1]Player Values 2023'!E127","v":183.18017080000001},null,{"$f":"'[1]Player Values 2023'!B183","v":"Suh"},{"$f":"'[1]Player Values 2023'!E183","v":170}]
[{"$f":"'[1]Player Values 2023'!B16","v":"Spieth"},{"$f":"'[1]Player Values 2023'!E16","v":1104.0574864},null,{"$f":"'[1]Player Values 2023'!B72","v":"Todd"},{"$f":"'[1]Player Values 2023'!E72","v":364.99125959999998},null,{"$f":"'[1]Player Values 2023'!B128","v":"Hardy"},{"$f":"'[1]Player Values 2023'!E128","v":180.55990260000002},null,{"$f":"'[1]Player Values 2023'!B184","v":"Taylor, B"},{"$f":"'[1]Player Values 2023'!E184","v":170}]
[{"$f":"'[1]Player Values 2023'!B17","v":"Horschel"},{"$f":"'[1]Player Values 2023'!E17","v":1086.9317800000001},null,{"$f":"'[1]Player Values 2023'!B73","v":"Huh"},{"$f":"'[1]Player Values 2023'!E73","v":359.02856000000003},null,{"$f":"'[1]Player Values 2023'!B129","v":"Molinari"},{"$f":"'[1]Player Values 2023'!E129","v":179.62123739999998},null,{"$f":"'[1]Player Values 2023'!B185","v":"Thompson, D"},{"$f":"'[1]Player Values 2023'!E185","v":170}]
[{"$f":"'[1]Player Values 2023'!B18","v":"Hovland"},{"$f":"'[1]Player Values 2023'!E18","v":1071.06131},null,{"$f":"'[1]Player Values 2023'!B74","v":"Smalley"},{"$f":"'[1]Player Values 2023'!E74","v":358.94496000000004},null,{"$f":"'[1]Player Values 2023'!B130","v":"Brehm"},{"$f":"'[1]Player Values 2023'!E130","v":177.3285162},null,{"$f":"'[1]Player Values 2023'!B186","v":"Tosti"},{"$f":"'[1]Player Values 2023'!E186","v":170}]
[{"$f":"'[1]Player Values 2023'!B19","v":"Morikawa"},{"$f":"'[1]Player Values 2023'!E19","v":1064.1996200000001},null,{"$f":"'[1]Player Values 2023'!B75","v":"Clark"},{"$f":"'[1]Player Values 2023'!E75","v":339.69188000000003},null,{"$f":"'[1]Player Values 2023'!B131","v":"Alexander"},{"$f":"'[1]Player Values 2023'!E131","v":170},null,{"$f":"'[1]Player Values 2023'!B187","v":"Walker"},{"$f":"'[1]Player Values 2023'!E187","v":170}]
[{"$f":"'[1]Player Values 2023'!B20","v":"Straka"},{"$f":"'[1]Player Values 2023'!E20","v":1038.9353897999999},null,{"$f":"'[1]Player Values 2023'!B76","v":"NeSmith"},{"$f":"'[1]Player Values 2023'!E76","v":338.61129939999995},null,{"$f":"'[1]Player Values 2023'!B132","v":"An"},{"$f":"'[1]Player Values 2023'!E132","v":170},null,{"$f":"'[1]Player Values 2023'!B188","v":"Werbylo "},{"$f":"'[1]Player Values 2023'!E188","v":170}]
[{"$f":"'[1]Player Values 2023'!B21","v":"English"},{"$f":"'[1]Player Values 2023'!E21","v":1000},null,{"$f":"'[1]Player Values 2023'!B77","v":"Wu, B"},{"$f":"'[1]Player Values 2023'!E77","v":323.9532054},null,{"$f":"'[1]Player Values 2023'!B133","v":"Armour"},{"$f":"'[1]Player Values 2023'!E133","v":170},null,{"$f":"'[1]Player Values 2023'!B189","v":"Westmoreland"},{"$f":"'[1]Player Values 2023'!E189","v":170}]
[{"$f":"'[1]Player Values 2023'!B22","v":"Hoge"},{"$f":"'[1]Player Values 2023'!E22","v":948.21023000000002},null,{"$f":"'[1]Player Values 2023'!B78","v":"Rose"},{"$f":"'[1]Player Values 2023'!E78","v":313.93889339999998},null,{"$f":"'[1]Player Values 2023'!B134","v":"Baddeley"},{"$f":"'[1]Player Values 2023'!E134","v":170},null,{"$f":"'[1]Player Values 2023'!B190","v":"Wu, D"},{"$f":"'[1]Player Values 2023'!E190","v":170}]
[{"$f":"'[1]Player Values 2023'!B23","v":"Stallings, Sc"},{"$f":"'[1]Player Values 2023'!E23","v":865.39057000000003},null,{"$f":"'[1]Player Values 2023'!B79","v":"Hodges"},{"$f":"'[1]Player Values 2023'!E79","v":302.9954884},null,{"$f":"'[1]Player Values 2023'!B135","v":"Barnes, E"},{"$f":"'[1]Player Values 2023'!E135","v":170},null,{"$f":"'[1]Player Values 2023'!B191","v":"Young, Car"},{"$f":"'[1]Player Values 2023'!E191","v":170}]
[{"$f":"'[1]Player Values 2023'!B24","v":"Conners"},{"$f":"'[1]Player Values 2023'!E24","v":852.84958219999999},null,{"$f":"'[1]Player Values 2023'!B80","v":"Long"},{"$f":"'[1]Player Values 2023'!E80","v":300.10883980000006},null,{"$f":"'[1]Player Values 2023'!B136","v":"Blair"},{"$f":"'[1]Player Values 2023'!E136","v":170},null,{"$f":"'[1]Player Values 2023'!B192","v":"Yu "},{"$f":"'[1]Player Values 2023'!E192","v":170}]
[{"$f":"'[1]Player Values 2023'!B25","v":"Kisner"},{"$f":"'[1]Player Values 2023'!E25","v":826.63306},null,{"$f":"'[1]Player Values 2023'!B81","v":"Streelman"},{"$f":"'[1]Player Values 2023'!E81","v":297.90039180000002},null,{"$f":"'[1]Player Values 2023'!B137","v":"Bramlett"},{"$f":"'[1]Player Values 2023'!E137","v":170},null,{"$f":"'[1]Player Values 2023'!B193","v":"Ancer"},{"$f":"'[1]Player Values 2023'!E193","v":1250}]
[{"$f":"'[1]Player Values 2023'!B26","v":"Bradley"},{"$f":"'[1]Player Values 2023'!E26","v":797.0900432000002},null,{"$f":"'[1]Player Values 2023'!B82","v":"Ghim"},{"$f":"'[1]Player Values 2023'!E82","v":296.44077320000002},null,{"$f":"'[1]Player Values 2023'!B138","v":"Bridgeman"},{"$f":"'[1]Player Values 2023'!E138","v":170},null,{"$f":"'[1]Player Values 2023'!B194","v":"Casey"},{"$f":"'[1]Player Values 2023'!E194","v":1250}]
[{"$f":"'[1]Player Values 2023'!B27","v":"Lowry"},{"$f":"'[1]Player Values 2023'!E27","v":795.66948560000003},null,{"$f":"'[1]Player Values 2023'!B83","v":"Rai"},{"$f":"'[1]Player Values 2023'!E83","v":296.25219139999996},null,{"$f":"'[1]Player Values 2023'!B139","v":"Burmester"},{"$f":"'[1]Player Values 2023'!E139","v":170},null,{"$f":"'[1]Player Values 2023'!B195","v":"DeChambeau"},{"$f":"'[1]Player Values 2023'!E195","v":1250}]
[{"$f":"'[1]Player Values 2023'!B28","v":"Wise"},{"$f":"'[1]Player Values 2023'!E28","v":759.9949742},null,{"$f":"'[1]Player Values 2023'!B84","v":"Schenk"},{"$f":"'[1]Player Values 2023'!E84","v":294.69532179999999},null,{"$f":"'[1]Player Values 2023'!B140","v":"Cole"},{"$f":"'[1]Player Values 2023'!E140","v":170},null,{"$f":"'[1]Player Values 2023'!B196","v":"Garcia"},{"$f":"'[1]Player Values 2023'!E196","v":1250}]
[{"$f":"'[1]Player Values 2023'!B29","v":"Lee, K H"},{"$f":"'[1]Player Values 2023'!E29","v":736.37948119999999},null,{"$f":"'[1]Player Values 2023'!B85","v":"Rodgers"},{"$f":"'[1]Player Values 2023'!E85","v":292.02383760000004},null,{"$f":"'[1]Player Values 2023'!B141","v":"Cone"},{"$f":"'[1]Player Values 2023'!E141","v":170},null,{"$f":"'[1]Player Values 2023'!B197","v":"Gooch"},{"$f":"'[1]Player Values 2023'!E197","v":1250}]
[{"$f":"'[1]Player Values 2023'!B30","v":"Poston"},{"$f":"'[1]Player Values 2023'!E30","v":724.3374556},null,{"$f":"'[1]Player Values 2023'!B86","v":"Pan"},{"$f":"'[1]Player Values 2023'!E86","v":288.91708119999998},null,{"$f":"'[1]Player Values 2023'!B142","v":"Cook"},{"$f":"'[1]Player Values 2023'!E142","v":170},null,{"$f":"'[1]Player Values 2023'!B198","v":"Grace"},{"$f":"'[1]Player Values 2023'!E198","v":1250}]
[{"$f":"'[1]Player Values 2023'!B31","v":"Harman"},{"$f":"'[1]Player Values 2023'!E31","v":709.90445020000004},null,{"$f":"'[1]Player Values 2023'!B87","v":"Buckley"},{"$f":"'[1]Player Values 2023'!E87","v":286.66783859999998},null,{"$f":"'[1]Player Values 2023'!B143","v":"Daffue"},{"$f":"'[1]Player Values 2023'!E143","v":170},null,{"$f":"'[1]Player Values 2023'!B199","v":"Howell"},{"$f":"'[1]Player Values 2023'!E199","v":1250}]
[{"$f":"'[1]Player Values 2023'!B32","v":"Riley"},{"$f":"'[1]Player Values 2023'!E32","v":701.97435440000004},null,{"$f":"'[1]Player Values 2023'!B88","v":"Jaeger"},{"$f":"'[1]Player Values 2023'!E88","v":283.69076560000002},null,{"$f":"'[1]Player Values 2023'!B144","v":"Detry"},{"$f":"'[1]Player Values 2023'!E144","v":170},null,{"$f":"'[1]Player Values 2023'!B201","v":"Johnson, D"},{"$f":"'[1]Player Values 2023'!E201","v":1250}]
[{"$f":"'[1]Player Values 2023'!B33","v":"Theegala"},{"$f":"'[1]Player Values 2023'!E33","v":687.42698639999992},null,{"$f":"'[1]Player Values 2023'!B89","v":"Malnati"},{"$f":"'[1]Player Values 2023'!E89","v":283.40331140000001},null,{"$f":"'[1]Player Values 2023'!B145","v":"Dou"},{"$f":"'[1]Player Values 2023'!E145","v":170},null,{"$f":"'[1]Player Values 2023'!B202","v":"Jones, M"},{"$f":"'[1]Player Values 2023'!E202","v":1250}]
[{"$f":"'[1]Player Values 2023'!B34","v":"Power"},{"$f":"'[1]Player Values 2023'!E34","v":682.05313000000001},null,{"$f":"'[1]Player Values 2023'!B90","v":"Ramey"},{"$f":"'[1]Player Values 2023'!E90","v":281.86939000000001},null,{"$f":"'[1]Player Values 2023'!B146","v":"Echavarria"},{"$f":"'[1]Player Values 2023'!E146","v":170},null,{"$f":"'[1]Player Values 2023'!B203","v":"Koepka"},{"$f":"'[1]Player Values 2023'!E203","v":1250}]
[{"$f":"'[1]Player Values 2023'!B35","v":"Mitchell"},{"$f":"'[1]Player Values 2023'!E35","v":675.03495180000004},null,{"$f":"'[1]Player Values 2023'!B91","v":"Lipsky"},{"$f":"'[1]Player Values 2023'!E91","v":279.28277739999999},null,{"$f":"'[1]Player Values 2023'!B147","v":"Eckroat"},{"$f":"'[1]Player Values 2023'!E147","v":170},null,{"$f":"'[1]Player Values 2023'!B204","v":"Kokrak"},{"$f":"'[1]Player Values 2023'!E204","v":1250}]
[{"$f":"'[1]Player Values 2023'!B36","v":"Spaun"},{"$f":"'[1]Player Values 2023'!E36","v":649.25362260000009},null,{"$f":"'[1]Player Values 2023'!B92","v":"Lee, D"},{"$f":"'[1]Player Values 2023'!E92","v":278.50555260000004},null,{"$f":"'[1]Player Values 2023'!B148","v":"Endycott"},{"$f":"'[1]Player Values 2023'!E148","v":170},null,{"$f":"'[1]Player Values 2023'!B205","v":"Lahiri"},{"$f":"'[1]Player Values 2023'!E205","v":1250}]
[{"$f":"'[1]Player Values 2023'!B37","v":"Scott"},{"$f":"'[1]Player Values 2023'!E37","v":640.90353579999999},null,{"$f":"'[1]Player Values 2023'!B93","v":"Ryder"},{"$f":"'[1]Player Values 2023'!E93","v":276.63148260000003},null,{"$f":"'[1]Player Values 2023'!B149","v":"Garnett"},{"$f":"'[1]Player Values 2023'!E149","v":170},null,{"$f":"'[1]Player Values 2023'!B206","v":"Leishman"},{"$f":"'[1]Player Values 2023'!E206","v":1250}]
[{"$f":"'[1]Player Values 2023'!B38","v":"McCarthy"},{"$f":"'[1]Player Values 2023'!E38","v":634.20968820000007},null,{"$f":"'[1]Player Values 2023'!B94","v":"Svensson"},{"$f":"'[1]Player Values 2023'!E94","v":265.98013859999998},null,{"$f":"'[1]Player Values 2023'!B150","v":"Gligic"},{"$f":"'[1]Player Values 2023'!E150","v":170},null,{"$f":"'[1]Player Values 2023'!B207","v":"McDowell"},{"$f":"'[1]Player Values 2023'!E207","v":1250}]
[{"$f":"'[1]Player Values 2023'!B39","v":"Fleetwood"},{"$f":"'[1]Player Values 2023'!E39","v":632.28194480000002},null,{"$f":"'[1]Player Values 2023'!B95","v":"Hadley"},{"$f":"'[1]Player Values 2023'!E95","v":262.93793679999999},null,{"$f":"'[1]Player Values 2023'!B151","v":"Gordon"},{"$f":"'[1]Player Values 2023'!E151","v":170},null,{"$f":"'[1]Player Values 2023'!B208","v":"Mickelson"},{"$f":"'[1]Player Values 2023'!E208","v":1250}]
[{"$f":"'[1]Player Values 2023'!B40","v":"Hatton"},{"$f":"'[1]Player Values 2023'!E40","v":626.95392759999993},null,{"$f":"'[1]Player Values 2023'!B96","v":"Frittelli"},{"$f":"'[1]Player Values 2023'!E96","v":262.81741200000005},null,{"$f":"'[1]Player Values 2023'!B152","v":"Gotterup"},{"$f":"'[1]Player Values 2023'!E152","v":170},null,{"$f":"'[1]Player Values 2023'!B209","v":"Na"},{"$f":"'[1]Player Values 2023'!E209","v":1250}]
[{"$f":"'[1]Player Values 2023'!B41","v":"Henley"},{"$f":"'[1]Player Values 2023'!E41","v":624.25114839999992},null,{"$f":"'[1]Player Values 2023'!B97","v":"Hahn"},{"$f":"'[1]Player Values 2023'!E97","v":260.31578539999998},null,{"$f":"'[1]Player Values 2023'!B153","v":"Goya"},{"$f":"'[1]Player Values 2023'!E153","v":170},null,{"$f":"'[1]Player Values 2023'!B210","v":"Niemann"},{"$f":"'[1]Player Values 2023'!E210","v":1250}]
[{"$f":"'[1]Player Values 2023'!B42","v":"Kim, Tom"},{"$f":"'[1]Player Values 2023'!E42","v":621.40779799999996},null,{"$f":"'[1]Player Values 2023'!B98","v":"Hubbard"},{"$f":"'[1]Player Values 2023'!E98","v":259.55217640000001},null,{"$f":"'[1]Player Values 2023'!B154","v":"Grant"},{"$f":"'[1]Player Values 2023'!E154","v":170},null,{"$f":"'[1]Player Values 2023'!B211","v":"Oosthuizen"},{"$f":"'[1]Player Values 2023'!E211","v":1250}]
[{"$f":"'[1]Player Values 2023'!B43","v":"Periera"},{"$f":"'[1]Player Values 2023'!E43","v":615.54372000000001},null,{"$f":"'[1]Player Values 2023'!B99","v":"Palmer"},{"$f":"'[1]Player Values 2023'!E99","v":256.91619800000001},null,{"$f":"'[1]Player Values 2023'!B155","v":"Gribble"},{"$f":"'[1]Player Values 2023'!E155","v":170},null,{"$f":"'[1]Player Values 2023'!B212","v":"Perez, P"},{"$f":"'[1]Player Values 2023'!E212","v":1250}]
[{"$f":"'[1]Player Values 2023'!B44","v":"List"},{"$f":"'[1]Player Values 2023'!E44","v":601.63828780000006},null,{"$f":"'[1]Player Values 2023'!B100","v":"Thompson, M"},{"$f":"'[1]Player Values 2023'!E100","v":252.61980919999999},null,{"$f":"'[1]Player Values 2023'!B156","v":"Griffin, B"},{"$f":"'[1]Player Values 2023'!E156","v":170},null,{"$f":"'[1]Player Values 2023'!B213","v":"Poulter"},{"$f":"'[1]Player Values 2023'!E213","v":1250}]
[{"$f":"'[1]Player Values 2023'!B45","v":"McNealy"},{"$f":"'[1]Player Values 2023'!E45","v":591.74566440000012},null,{"$f":"'[1]Player Values 2023'!B101","v":"Streb"},{"$f":"'[1]Player Values 2023'!E101","v":246.41697960000005},null,{"$f":"'[1]Player Values 2023'!B157","v":"Hagy"},{"$f":"'[1]Player Values 2023'!E157","v":170},null,{"$f":"'[1]Player Values 2023'!B214","v":"Reed"},{"$f":"'[1]Player Values 2023'!E214","v":1250}]
[{"$f":"'[1]Player Values 2023'!B46","v":"Hadwin"},{"$f":"'[1]Player Values 2023'!E46","v":566.36712},null,{"$f":"'[1]Player Values 2023'!B102","v":"Vegas"},{"$f":"'[1]Player Values 2023'!E102","v":241.47911919999999},null,{"$f":"'[1]Player Values 2023'!B158","v":"Haley"},{"$f":"'[1]Player Values 2023'!E158","v":170},null,{"$f":"'[1]Player Values 2023'!B215","v":"Schwartzel"},{"$f":"'[1]Player Values 2023'!E215","v":1250}]
[{"$f":"'[1]Player Values 2023'!B47","v":"Herbert"},{"$f":"'[1]Player Values 2023'!E47","v":562.85680000000002},null,{"$f":"'[1]Player Values 2023'!B103","v":"Laird"},{"$f":"'[1]Player Values 2023'!E103","v":240.74875219999996},null,{"$f":"'[1]Player Values 2023'!B159","v":"Harrington, S"},{"$f":"'[1]Player Values 2023'!E159","v":170},null,{"$f":"'[1]Player Values 2023'!B216","v":"Smith, C"},{"$f":"'[1]Player Values 2023'!E216","v":1250}]
[{"$f":"'[1]Player Values 2023'!B48","v":"Kitayama"},{"$f":"'[1]Player Values 2023'!E48","v":560.54056739999999},null,{"$f":"'[1]Player Values 2023'!B104","v":"Day"},{"$f":"'[1]Player Values 2023'!E104","v":239.02140020000004},null,{"$f":"'[1]Player Values 2023'!B160","v":"Higgo"},{"$f":"'[1]Player Values 2023'!E160","v":170},null,{"$f":"'[1]Player Values 2023'!B217","v":"Stenson"},{"$f":"'[1]Player Values 2023'!E217","v":1250}]
[{"$f":"'[1]Player Values 2023'!B49","v":"Munoz"},{"$f":"'[1]Player Values 2023'!E49","v":559.9265474},null,{"$f":"'[1]Player Values 2023'!B105","v":"Fowler"},{"$f":"'[1]Player Values 2023'!E105","v":236.04438000000002},null,{"$f":"'[1]Player Values 2023'!B161","v":"Kim, SH"},{"$f":"'[1]Player Values 2023'!E161","v":170},null,{"$f":"'[1]Player Values 2023'!B218","v":"Swafford"},{"$f":"'[1]Player Values 2023'!E218","v":1250}]
[{"$f":"'[1]Player Values 2023'!B50","v":"Steele"},{"$f":"'[1]Player Values 2023'!E50","v":557.01989639999999},null,{"$f":"'[1]Player Values 2023'!B106","v":"Simpson"},{"$f":"'[1]Player Values 2023'!E106","v":229.23008899999999},null,{"$f":"'[1]Player Values 2023'!B162","v":"Knowles"},{"$f":"'[1]Player Values 2023'!E162","v":170},null,{"$f":"'[1]Player Values 2023'!B219","v":"Tringale"},{"$f":"'[1]Player Values 2023'!E219","v":1250}]
[{"$f":"'[1]Player Values 2023'!B51","v":"Kirk"},{"$f":"'[1]Player Values 2023'!E51","v":529.96114380000006},null,{"$f":"'[1]Player Values 2023'!B107","v":"Whaley"},{"$f":"'[1]Player Values 2023'!E107","v":228.75959260000002},null,{"$f":"'[1]Player Values 2023'!B163","v":"Landry"},{"$f":"'[1]Player Values 2023'!E163","v":170},null,{"$f":"'[1]Player Values 2023'!B220","v":"Uihlien"},{"$f":"'[1]Player Values 2023'!E220","v":1250}]
[{"$f":"'[1]Player Values 2023'!B52","v":"Pendrith"},{"$f":"'[1]Player Values 2023'!E52","v":512.78491440000005},null,{"$f":"'[1]Player Values 2023'!B108","v":"Tarren"},{"$f":"'[1]Player Values 2023'!E108","v":227.55957400000003},null,{"$f":"'[1]Player Values 2023'!B164","v":"Levin"},{"$f":"'[1]Player Values 2023'!E164","v":170},null,{"$f":"'[1]Player Values 2023'!B221","v":"Varner"},{"$f":"'[1]Player Values 2023'!E221","v":1250}]
[{"$f":"'[1]Player Values 2023'!B53","v":"Hughes"},{"$f":"'[1]Player Values 2023'!E53","v":500.76700959999994},null,{"$f":"'[1]Player Values 2023'!B109","v":"Piercy"},{"$f":"'[1]Player Values 2023'!E109","v":226.76541800000001},null,{"$f":"'[1]Player Values 2023'!B165","v":"Lindheim"},{"$f":"'[1]Player Values 2023'!E165","v":170},null,{"$f":"'[1]Player Values 2023'!B222","v":"Watson"},{"$f":"'[1]Player Values 2023'!E222","v":1250}]
[{"$f":"'[1]Player Values 2023'!B54","v":"Kim, SW"},{"$f":"'[1]Player Values 2023'!E54","v":491.51321999999999},null,{"$f":"'[1]Player Values 2023'!B110","v":"Cink"},{"$f":"'[1]Player Values 2023'!E110","v":225.7548348},null,{"$f":"'[1]Player Values 2023'!B166","v":"Lingmerth"},{"$f":"'[1]Player Values 2023'!E166","v":170},null,{"$f":"'[1]Player Values 2023'!B223","v":"Westwood"},{"$f":"'[1]Player Values 2023'!E223","v":1250}]
[{"$f":"'[1]Player Values 2023'!B55","v":"Bezuidenhout"},{"$f":"'[1]Player Values 2023'!E55","v":491.32365700000003},null,{"$f":"'[1]Player Values 2023'!B111","v":"Watney"},{"$f":"'[1]Player Values 2023'!E111","v":222.76591260000004},null,{"$f":"'[1]Player Values 2023'!B167","v":"Lower"},{"$f":"'[1]Player Values 2023'!E167","v":170},null,{"$f":"'[1]Player Values 2023'!B224","v":"Wolff"},{"$f":"'[1]Player Values 2023'!E224","v":1250}]
[{"$f":"'[1]Player Values 2023'!B56","v":"Mullinax"},{"$f":"'[1]Player Values 2023'!E56","v":477.92011520000005},null,{"$f":"'[1]Player Values 2023'!B112","v":"McGreevy"},{"$f":"'[1]Player Values 2023'!E112","v":219.91774860000001},null,{"$f":"'[1]Player Values 2023'!B168","v":"Martin, B"},{"$f":"'[1]Player Values 2023'!E168","v":170}]
[{"$f":"'[1]Player Values 2023'!B57","v":"Grillo"},{"$f":"'[1]Player Values 2023'!E57","v":460.82239720000001},null,{"$f":"'[1]Player Values 2023'!B113","v":"Kizzire"},{"$f":"'[1]Player Values 2023'!E113","v":216.76457000000002},null,{"$f":"'[1]Player Values 2023'!B169","v":"Matthews"},{"$f":"'[1]Player Values 2023'!E169","v":170}]

{"sheet":"Sheet2","index":1,"n_rows":0,"n_cols":0,"rows_kept":0,"cut":false,"hidden":false,"merged":[]}